BEGIN:VCALENDAR
VERSION:2.0
PRODID:-//pretix//VR_Ticket//
BEGIN:VTIMEZONE
TZID:Europe/Berlin
BEGIN:STANDARD
DTSTART:20001029T040000
RRULE:FREQ=YEARLY;BYDAY=-1SU;BYMONTH=10
TZNAME:CET
TZOFFSETFROM:+0200
TZOFFSETTO:+0100
END:STANDARD
BEGIN:DAYLIGHT
DTSTART:20000326T030000
RRULE:FREQ=YEARLY;BYDAY=-1SU;BYMONTH=3
TZNAME:CEST
TZOFFSETFROM:+0100
TZOFFSETTO:+0200
END:DAYLIGHT
END:VTIMEZONE
BEGIN:VEVENT
UID:pretix-vrbankcoburg-subway-0@ticketshop.vrbank-coburg.de
DTSTART;TZID=Europe/Berlin:20260724T200000
DTEND;TZID=Europe/Berlin:20260724T210000
DESCRIPTION:Tickets: https://ticketshop.vrbank-coburg.de/subway/\nVeranstal
 ter: VR-Bank Coburg eG
DTSTAMP:20260420T200014Z
LOCATION:Domäne Rödental\, Kronacher Str. 4\, 96472 Rödental
SUMMARY:SUBWAY TO SALLY: POST MORTEM
END:VEVENT
END:VCALENDAR
