BEGIN:VCALENDAR
VERSION:2.0
PRODID:-//pretix//VR_Ticket//
BEGIN:VTIMEZONE
TZID:Europe/Berlin
BEGIN:STANDARD
DTSTART:20001029T040000
RRULE:FREQ=YEARLY;BYDAY=-1SU;BYMONTH=10
TZNAME:CET
TZOFFSETFROM:+0200
TZOFFSETTO:+0100
END:STANDARD
BEGIN:DAYLIGHT
DTSTART:20000326T030000
RRULE:FREQ=YEARLY;BYDAY=-1SU;BYMONTH=3
TZNAME:CEST
TZOFFSETFROM:+0100
TZOFFSETTO:+0200
END:DAYLIGHT
END:VTIMEZONE
BEGIN:VEVENT
UID:pretix-vrbankcoburg-rolandkaiser26-0@ticketshop.vrbank-coburg.de
DTSTART;TZID=Europe/Berlin:20260626T200000
DTEND;TZID=Europe/Berlin:20260626T210000
DESCRIPTION:Tickets: https://ticketshop.vrbank-coburg.de/rolandkaiser26/\nV
 eranstalter: VR-Bank Coburg eG
DTSTAMP:20260420T182946Z
LOCATION:Schlossplatz\, 96450 Coburg
SUMMARY:Roland Kaiser - Das Open Air 2026!
END:VEVENT
END:VCALENDAR
